BEGIN:VCALENDAR
VERSION:2.0
PRODID:-//Lichtcentrum Amsterdam - ECPv6.8.3//NONSGML v1.0//EN
CALSCALE:GREGORIAN
METHOD:PUBLISH
X-WR-CALNAME:Lichtcentrum Amsterdam
X-ORIGINAL-URL:https://backup.lichtcentrumamsterdam.nl
X-WR-CALDESC:Evenementen voor Lichtcentrum Amsterdam
REFRESH-INTERVAL;VALUE=DURATION:PT1H
X-Robots-Tag:noindex
X-PUBLISHED-TTL:PT1H
BEGIN:VTIMEZONE
TZID:UTC
BEGIN:STANDARD
TZOFFSETFROM:+0000
TZOFFSETTO:+0000
TZNAME:UTC
DTSTART:20230101T000000
END:STANDARD
END:VTIMEZONE
BEGIN:VEVENT
DTSTART;TZID=UTC:20231122T130000
DTEND;TZID=UTC:20231122T180000
DTSTAMP:20260419T160558
CREATED:20230922T100007Z
LAST-MODIFIED:20231012T163902Z
UID:7827-1700658000-1700676000@backup.lichtcentrumamsterdam.nl
SUMMARY:Familieopstellingen Middag  | thema Zelfliefde 22 november | vol voor eigen opstelling | Deelnemers/representanten welkom |
DESCRIPTION:Kracht van Zelfliefde\n\n\n\n\n\nDe kracht van Zelfliefde is wellicht de belangrijkste kracht van liefde die er is. In eigenliefde ligt je kracht\, je schoonheid. Hoe meer je van jezelf houdt en je liefde voor jezelf stevig is hoe minder de buitenwereld je letterlijk en figuurlijk van je pad af kan brengen. Authentiek durven en kunnen zijn staat in directe verbinding met hoeveel je van jezelf houdt en jezelf accepteert. Wanneer je je eigenliefde kan voelen en weet wat je werkelijke waarde is dan is er niets wat je niet kan helen in je leven. \n\n\n\n\n\n\n\n\n\n\nOVER DE LIEFDE IS VEEL GESCHREVEN\n\n\n\n\n\nLiefde is het diepste\, meest wezenlijke contact dat je met jezelf en het leven kan maken als vrouw of man. Het is de kern in jou en in alles. Steeds meer onvoorwaardelijk van  jezelf houden betekent dus ook liefde hebben voor en leren te omarmen van alles wat je in je zelf aan eigenschappen\, gevoelens en gedrag hebt die je van jezelf veroordeeld. Die hebben een doel en zijn ergens door ontstaan en dienen of diende je ergens in. Dat betekent niet dat je niet de wens mag hebben om te veranderen. Willen veranderen niet vanuit veroordeling en angst maar vanuit liefde. \nJezelf de moeite waard vinden\, je schoonheid en bijzondere kwaliteiten durven tonen is een gezonde vorm van eigenliefde die helend werkt. Jezelf zijn maakt dat je van een overspannen houding kan bewegen naar meer ontspanning in je lijf en gedachten. \n\n\n\n\n\nLIEFDE IS…steeds weer opnieuw kiezen\n\n\n\n\n\nIn plaats van oordelen\, kritiek en jezelf naar beneden halen\, is het jezelf stap voor stap blijven benaderen met compassie\, geduld en mededogen\, je hart openen naar jezelf\, keer op keer. Net als je bij een kind zou doen of bij je vrienden. Je gedachten met mildheid observeren en je eigen “harde schijf” herprogrammeren met liefde volle gedachten over jezelf. Liefde en vriendschap gaan leren ontwikkelen voor al die verschillende zelven die we in ons hebben die maken wie we zijn. Als je hiervoor steeds weer kiest dan heb je liefde voor het leven! \n\n\n\n\n\nSAMEN KIJKEN\n\n\n\n\n\n\n\n\n\n\n\n\n\n\nWAAR STA JIJ NU IN JE LIEFDE VOOR JEZELF ?\n\n\n\n\n\nSoms zitten er nog oude blokkades die je eigen liefde tegenhouden en saboteren. Met opstellingen komen we daar altijd snel bij de kern ervan waarna er weer een stromende beweging kan ontstaan waarin je zelf liefde kan toenemen. \nWil je meer zelfliefde ontwikkelen en groeien daarin? De deur naar meer liefde en kracht steeds weer meer in je zelf openen? Steeds weer op een diepere laag toestaan van je eigen liefde en thuiskomen op een plek in jezelf waar je verbonden voelt met jezelf. Deze plek in jezelf waar je altijd welkom en onvoorwaardelijk geliefd bent steeds meer verruimen? Je bent bij deze met liefde voor jezelf uitgenodigd daarvoor. \n\n\n\n\n\nKRACHT VAN ZELFLIEFDE\n\n\n\n\n\nWe werken deze middag met kleine opstellingen waardoor iedereen aanbod komt en er is plek voor 2 grote eigen (familie)opstellingen. Naast opstellingen werk ik ook met Theta Healing waarmee oude overtuigingen worden opgeschoond en nieuwe programma’s worden gedownload uit de Bron van onvoorwaardelijke liefde. \nDeze middag gaat je meer eigenliefde voor jezelf brengen!\nTijd: van 13.00-18.00 inloop vanaf 12.45. \n\n\n\n\n\n\n\n\n\n\n\n\nBijdrage :\n€ 130-  incl. 21% BTW  voor eigen opstelling. Er is plek voor 2 eigen opstellingen.\n€ 50\,-  als deelnemer/representant. \nWe zorgen voor koffie\, thee etc. \n(Wil je een zakelijke factuur dan komt er btw erbij. Mail mij hier even apart over\, betaling gaat dan via factuur. \nBegeleiding: Jacqueline de Vries
URL:https://backup.lichtcentrumamsterdam.nl/agenda/familieopstellingen-thema-zelfliefde-22-november/
LOCATION:Lichtcentrum Amsterdam\, Schellingwouderdijk 337\, Amsterdam\, Noord-Holland\, 1023NK\, Nederland
ORGANIZER;CN="Jacqueline de Vries":MAILTO:info@lichtcentrumamsterdam.nl
END:VEVENT
END:VCALENDAR