BEGIN:VCALENDAR
VERSION:2.0
PRODID:-//Lichtcentrum Amsterdam - ECPv6.8.3//NONSGML v1.0//EN
CALSCALE:GREGORIAN
METHOD:PUBLISH
X-ORIGINAL-URL:https://backup.lichtcentrumamsterdam.nl
X-WR-CALDESC:Evenementen voor Lichtcentrum Amsterdam
REFRESH-INTERVAL;VALUE=DURATION:PT1H
X-Robots-Tag:noindex
X-PUBLISHED-TTL:PT1H
BEGIN:VTIMEZONE
TZID:UTC
BEGIN:STANDARD
TZOFFSETFROM:+0000
TZOFFSETTO:+0000
TZNAME:UTC
DTSTART:20230101T000000
END:STANDARD
END:VTIMEZONE
BEGIN:VEVENT
DTSTART;TZID=UTC:20240126T100000
DTEND;TZID=UTC:20240127T173000
DTSTAMP:20260419T142331
CREATED:20210908T132727Z
LAST-MODIFIED:20231025T043107Z
UID:5305-1706263200-1706376600@backup.lichtcentrumamsterdam.nl
SUMMARY:Familieopstellingen 6 daagse Basis Training start 26 en 27 januari 2024
DESCRIPTION:In deze Familieopstellingen Basis Training kom je meer te weten over de systemische basisprincipes\, de systemische wetmatigheden en de basishouding. Verder onderzoeken we de basis relaties en de ordening hierin. We gaan dieper in op deze ordening aan de hand van de metafoor van de Fontein. (boek Els van Steijn)\n\n\n\n\nWil je graag wat meer leren over Familieopstellingen? Heb je een praktijk en/of ben je persoonlijk geïnteresseerd? Je ontwikkelt in de training je invoelende waarnemende vermogen en je intuïtie. Je wordt je beter bewust van je lichaam\, je leert je af te stemmen op de onderstroom en het veld. Daarnaast geeft de systemische manier van kijken die je ontwikkelt je een nieuw en inspirerend perspectief op de mensen en de wereld om je heen. \n\n\n\n\n\n\n\n\n\n\nERVAREND LEREN\n\n\n\n\n\nIn deze Familieopstellingen Basis Training ligt het accent vooral op het zelf ervarend leren. Doordat je zelf opstellingen gaat ervaren\, ga je je eigen ziel’s pad en eigen familieveld onderzoeken. Je leert aan den lijve hoe familieopstellingen doorwerken op een diepere laag. Door vaker opstellingen te doen ga je beter voelen in jezelf en je leert daarop te vertrouwen. Je durft je steeds meer te openen en  je gaat dieper ervaren wie je bent en waar jij eigenlijk vandaan komt. Het steeds meer bewust worden van je plek en de verbinding met jouw familiesysteem geeft je meer verbondenheid. Hiermee is deze training dus ook een bijdrage aan je eigen ontwikkeling. Afhankelijk van je vooropleiding kun je deze Basis training Familieopstellingen ook gebruiken om een individuele familieopstelling te gaan geven in je praktijk aan je cliënten. \n\n\n\n\n\nHOE IK WERK\n\n\n\n\n\nMijn manier van werken is dat ik me steeds richt op het voelen in het lichaam. Je lichaam heeft namelijk alle wijsheid in zich. Verder volg ik het veld en laat dat leidend zijn. Het volgen betekent dat ik erop vertrouw\, dat we durven te zijn en te kunnen blijven bij wat er zichtbaar wil worden in een opstelling. We leren het uit houden om om te gaan met het niet weten en niet meteen op te willen lossen. We werken meer vanuit de innerlijke beweging en gaan hiermee meer richting van het nieuwe opstellen. Je essentie spreekt de taal van de ziel en we volgen vooral deze beweging van de ziel die verder wil gaan. Daarnaast zullen we in de training werken met lichaamswerk\, meditatie en sharing. \n\n\n\n\n\n\n\n\n\n\nWAT BRENGT DEZE FAMILIEOPSTELLINGEN BASIS TRAINING JE?\n\n\n\n\n\n\ninzicht in je eigen basisrelaties; moeder\, vader\, directe familieleden en de ordening hierin. Het werken met de Fontein (boek Els vanSteijn)  komt uitgebreid aan bod.\nje eigen plek weer innemen in je familie.\nleren van de theorie van drie systemische basisprincipes\, de basishouding van jou als opsteller\,  de kunst van het ‘systemisch” helpen in relatie tot je cliënten..\nbeter leren voelen in je lichaam\, waardoor vertrouwen op je gevoel en intuïtie toeneemt..\nmeer contact met je lichaam en je ziel gaan ervaren.\ninspiratie en zelfvertrouwen in jezelf ervaren doordat je stappen zet in je eigen persoonlijke ontwikkeling\nsystemische manier van kijken ontwikkelen waardoor je meer zingeving en verbinding ervaart.\nde mogelijkheid om in je eigen praktijk een op een te gaan werken met individuele familieopstellingen dmv de blaadjes methode (vloerankers).\nintervisie tussen de trainingsdagen door.\n\nDeze Basis Training is geen volledige opleiding in Familieopstellingen. Dat neemt echt meer tijd. Het geeft een hele goede basis en begin om te leren er mee aan het werk te gaan. Er zijn ook zelfs al een aantal mensen in de training geweest  die al wel een opleiding hebben gedaan en hier toch nog veel aan professionele en persoonlijke inzichten hebben geleerd. Dus er valt veel te halen:)\nHet is echter aan ieders eigen inzicht en vooropleiding hoe je dit werk weer verder door ontwikkelt in je eigen coaching en in de praktijk brengt. \nOmdat er regelmatig vraag naar is\, is er na deze training de mogelijkheid om een vervolg te doen wat het tot een complete opleiding als opsteller maakt. De eerste groep is reeds van start gegaan. Deze vervolg opleiding bestaat uit 12 dagen in 6 blokken en worden gehouden op een donderdag en vrijdag.\nAls er interesse voor is en er een groep van min. 5 en max. 8 mensen is gaan we van start. \n\n\n\n\n\n\n\n\n\n\n\n\nDe 6 daagse Familieopstellingen Basis Training wordt gegeven door Jacqueline de Vries.\nZe is o.a. opgeleid door Hylke Bonnema\, Elmer Hendrix ea.  Meer weten over haar achtergrond/CV? Kijk dan even hier. \nData:\nBlok 1  vrijdag 26 januari zaterdag 27 januari 2024\nBlok 2  vrijdag 1 maart en zaterdag 2 maart\nBlok 3 vrijdag 12 april en zaterdag 13 april \nTijd: 10.00-17.30 \nPrijs: €750\,.- excl. 21% BTW (907\,50 incl)  en incl reader\, koffie thee\, snacks\, soep. \nVoor de persoonlijke aandacht in de training is het max. aantal deelnemers 8 \n\n\nHoop graag jou te gaan ontmoeten!\nJacqueline de Vries
URL:https://backup.lichtcentrumamsterdam.nl/agenda/familieopstellingen-basis-training/
LOCATION:Lichtcentrum Amsterdam\, Schellingwouderdijk 337\, Amsterdam\, Noord-Holland\, 1023NK\, Nederland
ORGANIZER;CN="Jacqueline de Vries":MAILTO:info@lichtcentrumamsterdam.nl
END:VEVENT
BEGIN:VEVENT
DTSTART;TZID=UTC:20231208T100000
DTEND;TZID=UTC:20231208T173000
DTSTAMP:20260419T142331
CREATED:20231012T105647Z
LAST-MODIFIED:20231030T153955Z
UID:7865-1702029600-1702056600@backup.lichtcentrumamsterdam.nl
SUMMARY:Familieopstellingen December Special 8 december |vol voor eigen opstelling | representanten welkom |
DESCRIPTION:FAMILIE OPSTELLINGEN DECEMBER SPECIAL\n\n\n\n\n\n\nDoor familieopstellingen voel en ervaar je wat er werkelijk aan de hand is. Het is vooral deze diepere bewustwording\, die veel meer is dan alleen inzicht\, die verruiming en helderheid brengt. Je dringt snel tot de kern van een probleem of patroon door. Familieopstellingen kunnen dus gaan over allerlei uiteenlopende levensvragen\, gevoelens of thema’s die je in een nieuw daglicht wilt stellen of waarin je wilt groeien. \nMet de December maand kan je vragen hebben als: Hoe sta ik er dit jaar in met betrekking tot mijn relaties ? Hoe verhoud ik me met de mensen uit mijn directe familie? Wat kan ik nog in mezelf veranderen en meer grip op krijgen? Welke zaken houden me nog steeds bezig? Maar ook kan het gaan over een gevoel wat maar blijft maar terug komen wat je maar niet getransformeerd krijgt. Waarin wil ik dit jaar nu nog echt meer licht in brengen? \nEr is plaats voor 4 deelnemers die een vraag kunnen inbrengen.  Je mag die dag gratis een vriend\, vriendin of partner meenemen die geïnteresseerd is in dit werk en er meer van wilt weten. Of die je mee wilt voor support. Een voorwaarde is dat hij of zij als representant in de opstellingen mee wilt doen. \nAls je nog niet bekend bent met Familieopstellingen is dit een kans om deze bijzondere en krachtige werkvorm eens aan den lijve te ervaren. \nJe kunt ook komen als representant. Dan betaal je €45\,- voor de dag. Je leert veel als je staat op de verschillende plekken die je inneemt in een opstelling en het is naast de liefdevolle bijdrage die je brengt ook een grote bijdrage aan je eigen persoonlijke ontwikkeling.
URL:https://backup.lichtcentrumamsterdam.nl/agenda/familieopstellingen-december-special/
LOCATION:Lichtcentrum Amsterdam\, Schellingwouderdijk 337\, Amsterdam\, Noord-Holland\, 1023NK\, Nederland
ATTACH;FMTTYPE=image/jpeg:https://backup.lichtcentrumamsterdam.nl/wp-content/uploads/2020/02/maria_f42.jpg
ORGANIZER;CN="Jacqueline de Vries":MAILTO:info@lichtcentrumamsterdam.nl
END:VEVENT
BEGIN:VEVENT
DTSTART;TZID=UTC:20231122T130000
DTEND;TZID=UTC:20231122T180000
DTSTAMP:20260419T142331
CREATED:20230922T100007Z
LAST-MODIFIED:20231012T163902Z
UID:7827-1700658000-1700676000@backup.lichtcentrumamsterdam.nl
SUMMARY:Familieopstellingen Middag  | thema Zelfliefde 22 november | vol voor eigen opstelling | Deelnemers/representanten welkom |
DESCRIPTION:Kracht van Zelfliefde\n\n\n\n\n\nDe kracht van Zelfliefde is wellicht de belangrijkste kracht van liefde die er is. In eigenliefde ligt je kracht\, je schoonheid. Hoe meer je van jezelf houdt en je liefde voor jezelf stevig is hoe minder de buitenwereld je letterlijk en figuurlijk van je pad af kan brengen. Authentiek durven en kunnen zijn staat in directe verbinding met hoeveel je van jezelf houdt en jezelf accepteert. Wanneer je je eigenliefde kan voelen en weet wat je werkelijke waarde is dan is er niets wat je niet kan helen in je leven. \n\n\n\n\n\n\n\n\n\n\nOVER DE LIEFDE IS VEEL GESCHREVEN\n\n\n\n\n\nLiefde is het diepste\, meest wezenlijke contact dat je met jezelf en het leven kan maken als vrouw of man. Het is de kern in jou en in alles. Steeds meer onvoorwaardelijk van  jezelf houden betekent dus ook liefde hebben voor en leren te omarmen van alles wat je in je zelf aan eigenschappen\, gevoelens en gedrag hebt die je van jezelf veroordeeld. Die hebben een doel en zijn ergens door ontstaan en dienen of diende je ergens in. Dat betekent niet dat je niet de wens mag hebben om te veranderen. Willen veranderen niet vanuit veroordeling en angst maar vanuit liefde. \nJezelf de moeite waard vinden\, je schoonheid en bijzondere kwaliteiten durven tonen is een gezonde vorm van eigenliefde die helend werkt. Jezelf zijn maakt dat je van een overspannen houding kan bewegen naar meer ontspanning in je lijf en gedachten. \n\n\n\n\n\nLIEFDE IS…steeds weer opnieuw kiezen\n\n\n\n\n\nIn plaats van oordelen\, kritiek en jezelf naar beneden halen\, is het jezelf stap voor stap blijven benaderen met compassie\, geduld en mededogen\, je hart openen naar jezelf\, keer op keer. Net als je bij een kind zou doen of bij je vrienden. Je gedachten met mildheid observeren en je eigen “harde schijf” herprogrammeren met liefde volle gedachten over jezelf. Liefde en vriendschap gaan leren ontwikkelen voor al die verschillende zelven die we in ons hebben die maken wie we zijn. Als je hiervoor steeds weer kiest dan heb je liefde voor het leven! \n\n\n\n\n\nSAMEN KIJKEN\n\n\n\n\n\n\n\n\n\n\n\n\n\n\nWAAR STA JIJ NU IN JE LIEFDE VOOR JEZELF ?\n\n\n\n\n\nSoms zitten er nog oude blokkades die je eigen liefde tegenhouden en saboteren. Met opstellingen komen we daar altijd snel bij de kern ervan waarna er weer een stromende beweging kan ontstaan waarin je zelf liefde kan toenemen. \nWil je meer zelfliefde ontwikkelen en groeien daarin? De deur naar meer liefde en kracht steeds weer meer in je zelf openen? Steeds weer op een diepere laag toestaan van je eigen liefde en thuiskomen op een plek in jezelf waar je verbonden voelt met jezelf. Deze plek in jezelf waar je altijd welkom en onvoorwaardelijk geliefd bent steeds meer verruimen? Je bent bij deze met liefde voor jezelf uitgenodigd daarvoor. \n\n\n\n\n\nKRACHT VAN ZELFLIEFDE\n\n\n\n\n\nWe werken deze middag met kleine opstellingen waardoor iedereen aanbod komt en er is plek voor 2 grote eigen (familie)opstellingen. Naast opstellingen werk ik ook met Theta Healing waarmee oude overtuigingen worden opgeschoond en nieuwe programma’s worden gedownload uit de Bron van onvoorwaardelijke liefde. \nDeze middag gaat je meer eigenliefde voor jezelf brengen!\nTijd: van 13.00-18.00 inloop vanaf 12.45. \n\n\n\n\n\n\n\n\n\n\n\n\nBijdrage :\n€ 130-  incl. 21% BTW  voor eigen opstelling. Er is plek voor 2 eigen opstellingen.\n€ 50\,-  als deelnemer/representant. \nWe zorgen voor koffie\, thee etc. \n(Wil je een zakelijke factuur dan komt er btw erbij. Mail mij hier even apart over\, betaling gaat dan via factuur. \nBegeleiding: Jacqueline de Vries
URL:https://backup.lichtcentrumamsterdam.nl/agenda/familieopstellingen-thema-zelfliefde-22-november/
LOCATION:Lichtcentrum Amsterdam\, Schellingwouderdijk 337\, Amsterdam\, Noord-Holland\, 1023NK\, Nederland
ORGANIZER;CN="Jacqueline de Vries":MAILTO:info@lichtcentrumamsterdam.nl
END:VEVENT
BEGIN:VEVENT
DTSTART;TZID=UTC:20231103T100000
DTEND;TZID=UTC:20231103T173000
DTSTAMP:20260419T142331
CREATED:20230922T085723Z
LAST-MODIFIED:20230927T142847Z
UID:7812-1699005600-1699032600@backup.lichtcentrumamsterdam.nl
SUMMARY:Familieopstellingen Herfst Special 3 november |Vol voor eigen opstelling | nog wel plek voor representanten |
DESCRIPTION:De opstellingen kunnen gaan over allerlei uiteenlopende levensvragen of thema’s die je in een nieuw daglicht wilt stellen of waarin je wilt groeien. Familieopstellingen zijn er voor iedereen die zakelijk of privé vastloopt in terugkerende thema’s en patronen. Dit kunnen vragen rondom zijn ziekte\, relaties\, familie\, kinderen\, geld of je werk\, maar ook als je wilt achterhalen waarom je je verloren\, verdrietig\, boos\, depressief of angstig voelt. \n\n\n\n\n\nSNEL TOT DE KERN VAN EEN PROBLEEM\n\n\n\n\n\nDoor familieopstellingen voel en ervaar je wat er werkelijk aan de hand is. Het is vooral deze diepere bewustwording\, die veel meer is dan alleen inzicht\, die verruiming en helderheid brengt. Je dringt snel tot de kern van een probleem of patroon door. Familieopstellingen kunnen dus gaan over allerlei uiteenlopende levensvragen\, gevoelens of thema’s die je in een nieuw daglicht wilt stellen of waarin je wilt groeien. \n\n\n\n\n\n\n\n\n\n\n\n\n\n\n\n\n Op de dag is er plek voor 4 opstellingen.  Je kunt dus zelf een vraag inbrengen\, maar je kunt ook als representant in een familieopstelling meedoen. Als je zelf een vraag inbrengt mag je gratis iemand meenemen\, mits die als representant wilt meedoen op de dag. De ervaring is dat je zowel als vragensteller en als je als representant staat in een opstelling\, je nieuwe inzichten krijgt. Representant zijn is een mooie manier om de kracht van een opstelling te ervaren. Het is vaak zo dat je niet voor niets op deze plek staat\, de innerlijke bewegingen die je ervaart zijn ook helend voor jezelf. Uit ervaring blijkt dat iedereen n staat is om dit te doen.\nWe starten altijd met een meditatie en openen we daarin iedereens familieveld en je krijgt ook uitleg over familieopstellingen. \n\n\n\n\n\nBEGELEIDING\n\n\n\n\n\nDe dag wordt gegeven door Jacqueline de Vries. \n\n\n\n\n\n\n\n\n\n\nDe bijdrage is €130- voor een eigen opstelling en je mag gratis iemand meenemen.\n\n\n\n\nVoor een representant is je bijdrage €45\,- \nTijd is of van 10.00-17.30 \nAls een datum vol is kun je je altijd opgeven per email om op de wachtlijst te worden gezet. \nAnnuleren:\nAls je niet kunt\, om wat voor reden dan ook\,  is dat voor je eigen risico\, er is helaas geen restitutie of verschuiven mogelijk. Mits er iemand is die je plek kan overnemen. Dan kan je je geld terug krijgen minus €5 adm.kosten. \n 
URL:https://backup.lichtcentrumamsterdam.nl/agenda/familieopstellingen-herfst-special-3-november/
LOCATION:Lichtcentrum Amsterdam\, Schellingwouderdijk 337\, Amsterdam\, Noord-Holland\, 1023NK\, Nederland
ORGANIZER;CN="Jacqueline de Vries":MAILTO:info@lichtcentrumamsterdam.nl
END:VEVENT
END:VCALENDAR